BEGIN:VCALENDAR
VERSION:2.0
PRODID:-//wp-events-plugin.com//6.6.1//EN
TZID:Europe/Zurich
X-WR-TIMEZONE:Europe/Zurich
BEGIN:VEVENT
UID:61@fsai.ch
DTSTART:20231116T173000Z
DTEND:20231116T200000Z
DTSTAMP:20231016T142246Z
URL:https://www.fsai.ch/events/jahresausklang-regionalgruppe-bern/
SUMMARY:Jahresausklang fsai
DESCRIPTION:Organisation durch Regionalgruppe Bern
LOCATION:Kinemathek Lichtspiel\, Sandrainstrasse 3\, Bern\, 3007\, Schweiz
GEO:46.940347;7.441912
X-APPLE-STRUCTURED-LOCATION;VALUE=URI;X-ADDRESS=Sandrainstrasse 3\, Bern\, 
 3007\, Schweiz;X-APPLE-RADIUS=100;X-TITLE=Kinemathek Lichtspiel:geo:46.940
 347,7.441912
END:VEVENT
END:VCALENDAR