BEGIN:VCALENDAR
VERSION:2.0
PRODID:-//wp-events-plugin.com//6.6.1//EN
TZID:Europe/Zurich
X-WR-TIMEZONE:Europe/Zurich
BEGIN:VEVENT
UID:70@fsai.ch
DTSTART:20241121T153000Z
DTEND:20241121T220000Z
DTSTAMP:20241019T134923Z
URL:https://www.fsai.ch/events/jahresausklang-fsai/
SUMMARY:Jahresausklang fsai 2024
DESCRIPTION:Besichtigung Südtrakt HB Zürich\n[caption id="attachment_1287
 " align="alignnone" width="1024"] Zürich HB\, Südtrakt – © SBB CFF FF
 S[/caption]\n\nOrganisation durch Regionalgruppe Bern\n\nDer 1871 von Jako
 b Friedrich Wanner erbaute Südtrakt des Hauptbahnhofs Zürich wurde durch
  das Architekturbüro Aebi &amp\; Vincent bei laufendem Betrieb in zwei Et
 appen 2009 bis 2023 saniert.\n\nUnser fsai-Mitglied Bernhard Aebi wird uns
  gemeinsam mit Vertretern der Bauherrschaft das spannende Projekt näherbr
 ingen und uns durch das Objekt führen.\n\nDen kulinarischen Teil des Jahr
 esausklangs werden wir in der Brasserie Süd im namensgebenden Südtrakt g
 eniessen.\n\nBeschränkte Platzzahl. Die Anmeldung wird im Herbst versandt
 .
LOCATION:Hauptbahnhof Zürich\, Bahnhofplatz\, Zürich\, Schweiz
GEO:47.377257;8.539771
X-APPLE-STRUCTURED-LOCATION;VALUE=URI;X-ADDRESS=Bahnhofplatz\, Zürich\, Sc
 hweiz;X-APPLE-RADIUS=100;X-TITLE=Hauptbahnhof Zürich:geo:47.377257,8.5397
 71
END:VEVENT
END:VCALENDAR