BEGIN:VCALENDAR
VERSION:2.0
PRODID:-//wp-events-plugin.com//6.6.1//EN
TZID:Europe/Zurich
X-WR-TIMEZONE:Europe/Zurich
BEGIN:VEVENT
UID:16@fsai.ch
DTSTART:20201120T000000Z
DTEND:20201120T000000Z
DTSTAMP:20201118T154119Z
URL:https://www.fsai.ch/events/jahresausklang-fsai-sektion-zu%cc%88rich-os
 tschweiz-2020/
SUMMARY:*ABGESAGT* Jahresausklang fsai Sektion Zürich/Ostschweiz 2020
DESCRIPTION:Auch der Jahresausklang wird aufgrund der anhaltenden Pandemie 
 abgesagt. Wir wünschen allen FSAI-Mitgliedern trotz der herausfordernden 
 Zeit einen schönen und besinnlichen Jahresabschluss und eine schöne Adve
 ntszeit.\n\nAuf ein Wiedersehen im neuen Jahr!
ATTACH;FMTTYPE=image/jpeg:https://www.fsai.ch/wp-content/uploads/2019/11/B
 ildschirmfoto-2019-11-12-um-13.53.35.jpg
END:VEVENT
END:VCALENDAR