BEGIN:VCALENDAR
VERSION:2.0
PRODID:-//wp-events-plugin.com//6.6.1//EN
TZID:Europe/Zurich
X-WR-TIMEZONE:Europe/Zurich
BEGIN:VEVENT
UID:11@fsai.ch
DTSTART:20191122T163000Z
DTEND:20191122T223000Z
DTSTAMP:20191121T170113Z
URL:https://www.fsai.ch/events/jahresausklang-fsai-sektion-zu%cc%88rich-os
 tschweiz-2019/
SUMMARY:Jahresausklang fsai Sektion Zürich/Ostschweiz 2019
DESCRIPTION:Führung durch Bestand &amp\; Erweiterung Kunsthaus Zürich\n
 \n„Von Moser bis Chipperfield“ lautet das Thema der Führung durch de
 n Bestand und die im Bau befindliche Erweiterung des Kunsthauses Zürich.
  Sie soll bis Ende nächsten Jahres fertig gestellt sein. Das anschliessen
 de Nachtessen im Restaurant Rosengarten spannt den Bogen zur sehr schönen
  fsai Reise ins Engadin vom vergangenen September und schliesst das Verein
 sjahr 2019 gemütlich und genussvoll ab.\n\nProgramm\n16.30 Treffpunkt vo
 r dem Restaurant Kunsthaus Heimplatz 1\, 8001 Zürich\nanschl. Architektu
 rführung durch den Bestand und die Baustelle des Kunsthauses\, Dauer 90 
 Minuten\n\n18.30 Apéro &amp\; Nachtessen im Restaurant „Rosengarten“ 
 Gemeindestrasse 60\, 8032 Zürich
ATTACH;FMTTYPE=image/jpeg:https://www.fsai.ch/wp-content/uploads/2019/11/B
 ildschirmfoto-2019-11-12-um-13.53.35.jpg
LOCATION:Kunsthaus Zürich\, Heimplatz 1\, Zürich\, 8001\, 
GEO:47.370112;8.547861
X-APPLE-STRUCTURED-LOCATION;VALUE=URI;X-ADDRESS=Heimplatz 1\, Zürich\, 800
 1\, ;X-APPLE-RADIUS=100;X-TITLE=Kunsthaus Zürich:geo:47.370112,8.547861
END:VEVENT
END:VCALENDAR