BEGIN:VCALENDAR
VERSION:2.0
PRODID:-//wp-events-plugin.com//6.6.1//EN
TZID:Europe/Zurich
X-WR-TIMEZONE:Europe/Zurich
BEGIN:VEVENT
UID:98@fsai.ch
DTSTART:20261112T173000Z
DTEND:20261112T220000Z
DTSTAMP:20251215T082438Z
URL:https://www.fsai.ch/events/jahresausklang-2026/
SUMMARY:Jahresausklang 2026
DESCRIPTION:Jahresausklang – Ort und Programm werden später bekanntgegeb
 en.
END:VEVENT
END:VCALENDAR