BEGIN:VCALENDAR
VERSION:2.0
PRODID:-//wp-events-plugin.com//6.6.1//EN
TZID:Europe/Zurich
X-WR-TIMEZONE:Europe/Zurich
BEGIN:VEVENT
UID:54@fsai.ch
DTSTART:20240223T160000Z
DTEND:20240223T230000Z
DTSTAMP:20240202T081751Z
URL:https://www.fsai.ch/events/jahresausklang-2023/
SUMMARY:Hauptversammlung fsai 2024
DESCRIPTION:Gemeinsame Hauptversammlung aller Regionalgruppen\n\nProgramm\n
 \n17:00 Führung in der Ausstellung «Was Wäre Wenn» im S AM Schweizeris
 ches Architekturmuseum durch Andreas Ruby und Gian Fenner\nAdresse: Steine
 nberg 7\, 4001 Basel\n\n18:15 Jahresversammlung im archäologischen Keller
  Teufelhof Basel\nAdresse: Leonhardsgraben 47-49\, 4051 Basel\n\n19:30 Zna
 cht im Apéro Style im archäologischen Keller Teufelhof Basel
LOCATION:Basel\, Leonhardsgraben 47-49\, Basel\, 4051\, Schweiz
GEO:47.555925;7.586451
X-APPLE-STRUCTURED-LOCATION;VALUE=URI;X-ADDRESS=Leonhardsgraben 47-49\, Bas
 el\, 4051\, Schweiz;X-APPLE-RADIUS=100;X-TITLE=Basel:geo:47.555925,7.58645
 1
END:VEVENT
END:VCALENDAR