BEGIN:VCALENDAR
VERSION:2.0
PRODID:-//wp-events-plugin.com//6.6.1//EN
TZID:Europe/Zurich
X-WR-TIMEZONE:Europe/Zurich
BEGIN:VEVENT
UID:46@fsai.ch
DTSTART:20221124T173000Z
DTEND:20221124T230000Z
DTSTAMP:20221022T163149Z
URL:https://www.fsai.ch/events/jahresausklang-2022/
SUMMARY:Jahresausklang 2022
DESCRIPTION:Dieses Jahr treffen wir uns zum Jahresausklang in Winterthur. D
 ie lange Geschichte der Industriestadt prägt die Entwicklung bis heute mi
 t. Wir begeben uns auf die Spurensuche.\n\nfsai-Mitglieder aller Regionalg
 ruppen sind herzlich willkommen.\n\nProgramm:\n\n 	17.30h\, Treffpunkt bei
 m Lokal "Portier"\, Lagerplatz 3\, 8400 Winterthur – Führung durch den 
 Lagerplatz auf dem Sulzerareal. Etwa 1/4 des ehemaligen Industrieareals im
  Herzen Winterthurs wird seit 2006 durch den ArealVerein Lagerplatz betrie
 ben. Gemeinsam mit der Pensionskasse Stiftung Abendrot wird eine langfrist
 ige und nachhaltige Entwicklung des Areals vorangetrieben.\n 	19.00h\, Ap
 éro im Restaurant Fredi\, Stadthausstrasse 119\, 8400 Winterthur\n 	19.30
 h\, Abendessen im Restaurant Fredi\, Stadthausstrasse 119\, 8400 Winterthu
 r\n\nDer "Portier" ist in rund 5 Minuten vom Bahnhof Winterthur zu Fuss zu
  erreichen\, das Restaurant ebenso. Am einfachsten ist die Anreise mit dem
  Zug / S-Bahn. Autofahrer finden hier Parkmöglichkeiten:\n\nCoop/Manor Pa
 rkhaus Stadtgarten\, Museumstrasse 74\, 8400 Winterthur\n\nParkhaus Bahnho
 f Winterthur\, Rudolfstrasse 20\, 8400 Winterthur\n\nWir freuen uns auf za
 hlreiches Erscheinen und einen gelungenen gemeinsamen Jahresausklang.
LOCATION:Jahresausklang fsai\, in der Stadt\, Winterthur\, Schweiz
GEO:47.49882;8.723689
X-APPLE-STRUCTURED-LOCATION;VALUE=URI;X-ADDRESS=in der Stadt\, Winterthur\,
  Schweiz;X-APPLE-RADIUS=100;X-TITLE=Jahresausklang fsai:geo:47.49882,8.723
 689
END:VEVENT
END:VCALENDAR