BEGIN:VCALENDAR
VERSION:2.0
PRODID:-//wp-events-plugin.com//6.6.1//EN
TZID:Europe/Zurich
X-WR-TIMEZONE:Europe/Zurich
BEGIN:VEVENT
UID:58@fsai.ch
DTSTART:20230706T171500Z
DTEND:20230706T191500Z
DTSTAMP:20230621T120446Z
URL:https://www.fsai.ch/events/hauptversammlung-regionalgruppe-bern-westsc
 hweiz/
SUMMARY:Hauptversammlung Regionalgruppe Bern Westschweiz
DESCRIPTION:
LOCATION:Atelier Rykart Architekten\, Könizstrasse 161\, Liebefeld\, 3097\
 , Schweiz
GEO:46.934933;7.417593
X-APPLE-STRUCTURED-LOCATION;VALUE=URI;X-ADDRESS=Könizstrasse 161\, Liebefe
 ld\, 3097\, Schweiz;X-APPLE-RADIUS=100;X-TITLE=Atelier Rykart Architekten:
 geo:46.934933,7.417593
END:VEVENT
END:VCALENDAR