BEGIN:VCALENDAR
VERSION:2.0
PRODID:-//wp-events-plugin.com//6.6.1//EN
TZID:Europe/Zurich
X-WR-TIMEZONE:Europe/Zurich
BEGIN:VEVENT
UID:40@fsai.ch
DTSTART:20220127T173000Z
DTEND:20220127T213000Z
DTSTAMP:20220119T135718Z
URL:https://www.fsai.ch/events/hauptversammlung-bern-westschweiz-mit-rahme
 nprogramm-2/
SUMMARY:Hauptversammlung Bern – Westschweiz (mit Rahmenprogramm)
DESCRIPTION:**Beginn 17.30h**
LOCATION:Atelierraum Rykard Architekten\, Vidmarhallen und Le Beizli\, Kön
 izstrasse 161\, Liebefeld\, Bern\, 3097\, Schweiz
GEO:46.934933;7.417593
X-APPLE-STRUCTURED-LOCATION;VALUE=URI;X-ADDRESS=Könizstrasse 161\, Liebefe
 ld\, Bern\, 3097\, Schweiz;X-APPLE-RADIUS=100;X-TITLE=Atelierraum Rykard A
 rchitekten\, Vidmarhallen und Le Beizli:geo:46.934933,7.417593
END:VEVENT
END:VCALENDAR