BEGIN:VCALENDAR
VERSION:2.0
PRODID:-//wp-events-plugin.com//6.6.1//EN
TZID:Europe/Zurich
X-WR-TIMEZONE:Europe/Zurich
BEGIN:VEVENT
UID:57@fsai.ch
DTSTART:20230927T170000Z
DTEND:20230927T190000Z
DTSTAMP:20230912T112930Z
URL:https://www.fsai.ch/events/besuch-in-der-villa-senar/
SUMMARY:Besuch in der Villa Senar
DESCRIPTION:Wir erhalten die Möglichkeit\, die schöne Villa Senar von Ser
 ge Rachmaninoff in Weggis zu besuchen.\n\nPDF: Einladung Villa Senar\, FA
 Z Villa Senar 2023.09.07\n\nFührung um 17.00h\n\nApéro im Anschluss\, ca
 . 18.15h\n\nZugreisende werden um 16:30 am BHF Luzern abgeholt\n\nDie Mana
 ging und Artistic Direktorin\, Andrea Lötscher\, führt uns durch die Rä
 ume dieser einmaligen\, frisch renovierten Villa im Stil des Neuen Bauens\
 , erbaut an den Ufern des Vierwaldstätter Sees für den Pianisten Sergej 
 Rachmanninoff 1933.\n\nAndrea Lötscher kennt die Geschichte und Geschicht
 en\, die sich um dieses Haus ranken und wir lassen uns inspirieren und wer
 den beim anschliessenden Apero darüber philosophieren.\n\nUm Anmeldung wi
 rd gebeten an Niklaus Reinhard reinhard@quartiervier.ch (Anzahl Personen u
 nd Anreise per PW oder Zug) bis 22.9.2023
LOCATION:Villa Senar\, ZInnenstrasse 6\, Weggis\, 6353\, Schweiz
GEO:47.031018;8.398811
X-APPLE-STRUCTURED-LOCATION;VALUE=URI;X-ADDRESS=ZInnenstrasse 6\, Weggis\, 
 6353\, Schweiz;X-APPLE-RADIUS=100;X-TITLE=Villa Senar:geo:47.031018,8.3988
 11
END:VEVENT
END:VCALENDAR