BEGIN:VCALENDAR
VERSION:2.0
PRODID:-//wp-events-plugin.com//6.6.1//EN
TZID:Europe/Zurich
X-WR-TIMEZONE:Europe/Zurich
BEGIN:VEVENT
UID:91@fsai.ch
DTSTART:20250331T160000Z
DTEND:20250331T180000Z
DTSTAMP:20250306T132646Z
URL:https://www.fsai.ch/events/besichtigung-atelierhaus-burkhalter-thalwil
 /
SUMMARY:Besichtigung Atelierhaus Burkhalter\, Thalwil
DESCRIPTION:\n\nBesichtigung Atelierhaus Burkhalter Thalwil\nDie Teilnehmer
 zahl ist auf 25 Personen beschränkt.\nAnmeldung direkt an Thomas Wethli: 
 wethli@wethli.com \nAnmeldeschluss ist der  10. März 2025\n\n
END:VEVENT
END:VCALENDAR