BEGIN:VCALENDAR
VERSION:2.0
PRODID:-//wp-events-plugin.com//6.6.1//EN
TZID:Europe/Zurich
X-WR-TIMEZONE:Europe/Zurich
BEGIN:VEVENT
UID:56@fsai.ch
DTSTART:20230621T183000Z
DTEND:20230621T210000Z
DTSTAMP:20230615T122937Z
URL:https://www.fsai.ch/events/archithese-symposium-zur-ausgabe-2-2023-ker
 amik/
SUMMARY:archithese – Symposium zur Ausgabe 2.2023 Keramik
DESCRIPTION:Potenzial Backstein\nZur Ausgabe 2.2023 Keramik veranstaltet ar
 chithese das Symposium Potenzial Backstein. Spannende Vorträge zum Thema 
 Baukeramik und ihren Anwendungen werden am Abend des 21. Juni versammelt. 
 Sprechen werden unter anderem:\nHubertus Adam\, Kunsthistoriker und Chefre
 daktor archithese\nFabio Gramazio\, Gramazio Kohler\nSusanne Mühlhaus\, K
 eller Unternehmungen\nJaqueline Pauli\, ZPF Ingenieure\nRoger Boltshauser\
 , Boltshauser Architekten AG\n\n&nbsp\;\n\nDas Symposium findet von 18:30 
 bis 21:00 Uhr (Einlass 18:00 Uhr) an der ETH-Zürich (Campus Hönggerberg)
 \, HIB E 43\, Stefano-Franscini-Platz 1\, statt. archithese Keramik wird a
 n dem Abend zu einem Sonderpreis von CHF 20\,- angeboten. Kommen Sie vorbe
 i und geniessen Sie freien Eintritt sowie Apéro! Eine Anmeldung ist zur T
 eilnahme nicht notwendig.
ATTACH;FMTTYPE=image/jpeg:https://www.fsai.ch/wp-content/uploads/2023/06/D
 SC_8132-WEB-scaled.jpg
LOCATION:ETH Hönggerberg HIB E43\, ETH Hönggerberg\, Zürich\, Schweiz
GEO:47.408589;8.506179
X-APPLE-STRUCTURED-LOCATION;VALUE=URI;X-ADDRESS=ETH Hönggerberg\, Zürich\
 , Schweiz;X-APPLE-RADIUS=100;X-TITLE=ETH Hönggerberg HIB E43:geo:47.40858
 9,8.506179
END:VEVENT
END:VCALENDAR