BEGIN:VCALENDAR
VERSION:2.0
PRODID:-//wp-events-plugin.com//6.6.1//EN
TZID:Europe/Zurich
X-WR-TIMEZONE:Europe/Zurich
BEGIN:VEVENT
UID:18@fsai.ch
DTSTART:20200703T114500Z
DTEND:20200703T134500Z
DTSTAMP:20200701T080114Z
URL:https://www.fsai.ch/events/archithavolata/
SUMMARY:archithavolata
DESCRIPTION:**VERSCHOBEN**\n\nDie archithavolata vom 3.7.20 ist leider aufg
 rund der Covid-19-Pandemie abgesagt. Wir planen einen neuen Termin im Herb
 st und informieren zu gegebener Zeit über die Details.\n\nVortrag zum Jah
 resthema «Auf- und Umbruch»
LOCATION:Restaurant Palmhof\, Universitätstrasse 23\, Zürich\, 8006\, 
GEO:47.379123;8.547915
X-APPLE-STRUCTURED-LOCATION;VALUE=URI;X-ADDRESS=Universitätstrasse 23\, Z
 ürich\, 8006\, ;X-APPLE-RADIUS=100;X-TITLE=Restaurant Palmhof:geo:47.3791
 23,8.547915
END:VEVENT
END:VCALENDAR