BEGIN:VCALENDAR
VERSION:2.0
PRODID:-//wp-events-plugin.com//6.6.1//EN
TZID:Europe/Zurich
X-WR-TIMEZONE:Europe/Zurich
BEGIN:VEVENT
UID:76@fsai.ch
DTSTART:20240502T183000Z
DTEND:20240502T213000Z
DTSTAMP:20240425T073839Z
URL:https://www.fsai.ch/events/architekturzeitschriften-eine-plattform-fue
 r-architekturvermittlung/
SUMMARY:Architekturzeitschriften – Eine Plattform für Architekturvermitt
 lung?
DESCRIPTION:2. Mai 2024\, 18.30h\, Museum im Bellpark\, Kriens\n\nPodiumsge
 spräch\, anlässlich des Erscheinens der Publikation archithese reader C
 ritical Positions in Search of Postmodernity\, 1971–1976\nBegrüssung: H
 ilar Stadler\, Leiter Museum im Bellpark\nBuchvorstellung durch die Heraus
 gebenden Gabrielle Schaad und Torsten Lange.\nPodiumsgespräch moderiert v
 on archithese mit Shehrie Islamaj und Tobias Furter (Lila Strauss)\, Tor
 sten Lange\, Gabrielle Schaad sowie Stanislaus von Moos\n\nDas Museum im B
 ellpark verlängert seine Öffnungszeiten und bietet den Vernissagebesuche
 rn Gelegenheit\, sich die aktuellen Ausstellungen «Ramification. Céline 
 Baumann» und «Landschaftstheoretische Aquarelle von Lucius Burckhard» a
 uch nach 17 Uhr bis zum Beginn der Buchvernissage anzusehen.\n\nDer Anlass
  findet in Kooperation mit archithese und dank der Unterstützung der HS
 LU Luzern statt.
LOCATION:Museum im Bellpark\, Luzernerstrasse 21\, Kriens\, 6011\, Schweiz
GEO:47.034526;8.282854
X-APPLE-STRUCTURED-LOCATION;VALUE=URI;X-ADDRESS=Luzernerstrasse 21\, Kriens
 \, 6011\, Schweiz;X-APPLE-RADIUS=100;X-TITLE=Museum im Bellpark:geo:47.034
 526,8.282854
END:VEVENT
END:VCALENDAR