BEGIN:VCALENDAR
VERSION:2.0
PRODID:-//wp-events-plugin.com//6.6.1//EN
TZID:Europe/Zurich
X-WR-TIMEZONE:Europe/Zurich
BEGIN:VEVENT
UID:41@fsai.ch
DTSTART;VALUE=DATE:20220509
DTEND;VALUE=DATE:20220516
DTSTAMP:20220421T160019Z
URL:https://www.fsai.ch/events/architekturwoche-basel-2022/
SUMMARY:Architekturwoche Basel 2022
DESCRIPTION:Die Architekturwoche Basel (AWB) findet zum ersten Mal vom 9.
 –15. Mai 2022 statt. Es handelt sich bei der neuen biennalen Plattform f
 ür Architektur und Stadtentwicklung um eine Initiative der Stiftung Archi
 tektur Dialoge. Unter der künstlerischen Leitung von Chrissie Muhr widmet
  sich die AWB 2022 in ihrem Auftaktjahr dem Thema «Reale Räume» – und
  damit der Frage\, wie Globalisierung\, Digitalisierung\, Migration\, Klim
 awandel und Pandemie unseren Lebensraum und städtischen Alltag räumlich 
 beeinflussen.\n\nDas Programm mit über 100 Vorträgen\, Führungen\, Work
 shops\, Ausstellungen\, Filmen\, Konzerten und Performances wendet sich an
  eine breite Öffentlichkeit. Die Veranstaltungen finden in Basel-Stadt\, 
 in Basel-Landschaft und im Dreiland (CH\, D\, F) statt. Am Wochenende des 
 14./15. Mai findet das jährliche Open House Basel statt.\n\nMehr Informat
 ionen sind hier zu finden.
END:VEVENT
END:VCALENDAR