BEGIN:VCALENDAR
VERSION:2.0
PRODID:-//wp-events-plugin.com//6.6.1//EN
TZID:Europe/Zurich
X-WR-TIMEZONE:Europe/Zurich
BEGIN:VEVENT
UID:24@fsai.ch
DTSTART:20200905T000000Z
DTEND:20200905T000000Z
DTSTAMP:20200902T055839Z
URL:https://www.fsai.ch/events/architekturtag-architekturpreis-winterthur-
 2020/
SUMMARY:Architekturtag / Architekturpreis Winterthur 2020
DESCRIPTION:Kommenden Samstag findet wie alle zwei Jahre der Architekturtag
  Winterthur statt. In diesem Rahmen können in und um Winterthur beinahe 7
 0 Objekte besichtigt werden. Darunter sind auch drei Bauten unseres Mitgli
 eds Andreas Reinhardt.\n\nGleichentags wird der alle vier Jahre ausgericht
 ete Architekturpreis Winterthur verliehen. Dabei werden sechs Objekte ausg
 ezeichnet\, für acht gibt es eine Anerkennung. Die Preisverleihung findet
  von 17.00-18.00 Uhr in der ESSE Musicbar auf dem Zeughausareal statt.\n\n
 Nach der Preisverleihung werden im Hof des Zeughausareals kulinarische Kö
 stlichkeiten vom Restaurant Rosa Pulver mit den passenden Getränke von We
 in-Punkt gereicht. Der Vorverkauf wird dringend empfohlen.
LOCATION:Esse Musicbar\, Zeughaus 1\, Winterthur\, Schweiz
GEO:47.494248;8.734318
X-APPLE-STRUCTURED-LOCATION;VALUE=URI;X-ADDRESS=Zeughaus 1\, Winterthur\, S
 chweiz;X-APPLE-RADIUS=100;X-TITLE=Esse Musicbar:geo:47.494248,8.734318
END:VEVENT
END:VCALENDAR