BEGIN:VCALENDAR
VERSION:2.0
PRODID:-//wp-events-plugin.com//6.6.1//EN
TZID:Europe/Zurich
X-WR-TIMEZONE:Europe/Zurich
BEGIN:VEVENT
UID:35@fsai.ch
DTSTART:20210920T183000Z
DTEND:20210920T203000Z
DTSTAMP:20210920T093302Z
URL:https://www.fsai.ch/events/architektursymposium-2021-junge-bernerinnen
 /
SUMMARY:Architektursymposium 2021 – junge Berner*innen
DESCRIPTION:Junge Berner*innen\nDas Architektursymposium 2021 beschäftigt 
 sich mit der jungen Berner Baukultur. Zu einer lebendigen Baukultur gehör
 t auch die Betrachtung aktueller Tendenzen. Der Blick richtet sich auf jun
 ge\, experimentell arbei- tende Architekt*innen. Im Fokus steht der Prozes
 s\, die Herangehensweise und die Art der Architekturbetrachtung. Dem nicht
  Gebauten oder dem noch nicht Gebauten wird ein Wert beigemessen.\nDas Sym
 posium bietet der jungen Berner Architekturszene eine öffentliche Plattfo
 rm\, um ihre Themen\, Fragestellungen und Ideen sichtbar zu machen und zu 
 verhandeln.\n\nOpen Call\nDurch eine öffentliche Ausschreibung wurden jun
 ge Architekt*innen unter 40 Jahren\, die sich als Teil der Berner Baukultu
 r verstehen\, aufgefor-\ndert\, einen Beitrag einzureichen. Eine Jury wäh
 lte aus den zugelassenen Eingaben acht Teilnehmer*innen aus\, die ihren Be
 itrag im Rahmen des Architektursymposiums präsentieren. Fünf von ihnen f
 ühren mit den Student*innen Workshops zum Thema Entwurfsmethoden und dere
 n Potenzial für die Berner Baukultur durch.\n\nArchitektursymposium_2021_
 Programm_extern
LOCATION:Volkshaus Biel\, grosser Saal\, Aarbergstrasse 112\, Biel\, Bern\,
  2502\, Schweiz
GEO:47.134378;7.243351
X-APPLE-STRUCTURED-LOCATION;VALUE=URI;X-ADDRESS=Aarbergstrasse 112\, Biel\,
  Bern\, 2502\, Schweiz;X-APPLE-RADIUS=100;X-TITLE=Volkshaus Biel\, grosser
  Saal:geo:47.134378,7.243351
END:VEVENT
END:VCALENDAR