BEGIN:VCALENDAR
VERSION:2.0
PRODID:-//wp-events-plugin.com//6.6.1//EN
TZID:Europe/Zurich
X-WR-TIMEZONE:Europe/Zurich
BEGIN:VEVENT
UID:106@fsai.ch
DTSTART;TZID=Europe/Zurich:20260323T114500
DTEND;TZID=Europe/Zurich:20260323T133000
DTSTAMP:20260227T095949Z
URL:https://www.fsai.ch/events/1468/
SUMMARY:architavolata mit Urs Hausmann
DESCRIPTION:architavolata – Wohnen in der Schweiz: eine datenbasierte Rei
 se von der Helvetik bis in die jüngste Gegenwart\nReferat von Urs Hausman
 n.\nTime… im HB Zürich\nAnmeldung bis 18.03.2026\nfsai Flyer archithavo
 lata
LOCATION:Time...\, Bahnhofplatz 15\, Zürich\, 8001\, Schweiz
GEO:47.37813;8.539285
X-APPLE-STRUCTURED-LOCATION;VALUE=URI;X-ADDRESS=Bahnhofplatz 15\, Zürich\,
  8001\, Schweiz;X-APPLE-RADIUS=100;X-TITLE=Time...:geo:47.37813,8.539285
END:VEVENT
BEGIN:VTIMEZONE
TZID:Europe/Zurich
X-LIC-LOCATION:Europe/Zurich
BEGIN:STANDARD
DTSTART:20251026T020000
TZOFFSETFROM:+0200
TZOFFSETTO:+0100
TZNAME:CET
END:STANDARD
END:VTIMEZONE
END:VCALENDAR