BEGIN:VCALENDAR
VERSION:2.0
PRODID:-//wp-events-plugin.com//6.6.1//EN
TZID:Europe/Zurich
X-WR-TIMEZONE:Europe/Zurich
BEGIN:VEVENT
UID:25@fsai.ch
DTSTART;VALUE=DATE:20210122
DTEND;VALUE=DATE:20210123
DTSTAMP:20201102T092020Z
URL:https://www.fsai.ch/events/1-vs-2012/
SUMMARY:1. Vorstandssitzung 2021
DESCRIPTION:
END:VEVENT
END:VCALENDAR